BEGIN:VCALENDAR
VERSION:2.0
PRODID:-//Tipika® - ECPv6.3.3.1//NONSGML v1.0//EN
CALSCALE:GREGORIAN
METHOD:PUBLISH
X-WR-CALNAME:Tipika®
X-ORIGINAL-URL:https://tipika.it
X-WR-CALDESC:Eventi per Tipika®
REFRESH-INTERVAL;VALUE=DURATION:PT1H
X-Robots-Tag:noindex
X-PUBLISHED-TTL:PT1H
BEGIN:VTIMEZONE
TZID:UTC
BEGIN:STANDARD
TZOFFSETFROM:+0000
TZOFFSETTO:+0000
TZNAME:UTC
DTSTART:20210101T000000
END:STANDARD
END:VTIMEZONE
BEGIN:VEVENT
DTSTART;TZID=UTC:20210827T160000
DTEND;TZID=UTC:20210827T233000
DTSTAMP:20260423T162532
CREATED:20210805T062334Z
LAST-MODIFIED:20211028T204053Z
UID:3623-1630080000-1630107000@tipika.it
SUMMARY:Tipicamente 07
DESCRIPTION:Dal 16 luglio al 25 settembre 2021\, tutti i venerdì\, presso RiverSTOCK – Parco del Rapido in via Palombara a Cassino\, immersi in un’ampia area verde appositamente attrezzata costeggiante le rive del Rapido\, si svolgeranno 11 eventi durante i quali si potranno degustare prodotti tipici locali. Ad ogni workshop sarà presente una band musicale che accompagnerà la serata. \nIl progetto tipicamente si propone di promuovere e valorizzare i prodotti tipici della provincia di Frosinone che rientrano nei sistemi di qualità alimentare (Peperone di Pontecorvo DOP\, Cannellino di Atina DOP\, Atina Cabernet DOC\, Mozzarella di bufala campana DOP\, Formaggi biologici\, ecc.) \nSiamo alla settima serata delle undici previste dal progetto Tipicamente 2021 durante la quale i “Go-Go Gozzilla” proporranno un repertorio esclusivamente vintage. \nDal Rockabilly puro al Country\, senza disdegnare qualche capatina nel Jump-Blues anni ‘50. Elvis\, Little Richard\, Chuck Berry e tanti altri gli autori a cui i G-G-G si ispirano. \nVi aspettiamo a braccia aperte. \nLa serata
URL:https://tipika.it/evento/tipicamente-07/
LOCATION:RiverSTOCK – Parco del Rapido\, Via Palombara\, Cassino\, 03043\, Italia
CATEGORIES:Tipicamente 2021
ATTACH;FMTTYPE=image/jpeg:https://tipika.it/wp-content/uploads/2021/08/tipicamente_07.jpg
ORGANIZER;CN="Tipika":MAILTO:cooptipika@gmail.com
END:VEVENT
END:VCALENDAR