BEGIN:VCALENDAR
VERSION:2.0
PRODID:-//Tipika® - ECPv6.3.3.1//NONSGML v1.0//EN
CALSCALE:GREGORIAN
METHOD:PUBLISH
X-ORIGINAL-URL:https://tipika.it
X-WR-CALDESC:Eventi per Tipika®
REFRESH-INTERVAL;VALUE=DURATION:PT1H
X-Robots-Tag:noindex
X-PUBLISHED-TTL:PT1H
BEGIN:VTIMEZONE
TZID:UTC
BEGIN:STANDARD
TZOFFSETFROM:+0000
TZOFFSETTO:+0000
TZNAME:UTC
DTSTART:20210101T000000
END:STANDARD
END:VTIMEZONE
BEGIN:VEVENT
DTSTART;TZID=UTC:20210903T160000
DTEND;TZID=UTC:20210903T233000
DTSTAMP:20260423T150326
CREATED:20210805T062444Z
LAST-MODIFIED:20211028T210302Z
UID:3624-1630684800-1630711800@tipika.it
SUMMARY:Tipicamente 08
DESCRIPTION:Dal 16 luglio al 25 settembre 2021\, tutti i venerdì\, presso RiverSTOCK – Parco del Rapido in via Palombara a Cassino\, immersi in un’ampia area verde appositamente attrezzata costeggiante le rive del Rapido\, si svolgeranno 11 eventi durante i quali si potranno degustare prodotti tipici locali. Ad ogni workshop sarà presente una band musicale che accompagnerà la serata. \nIl progetto tipicamente si propone di promuovere e valorizzare i prodotti tipici della provincia di Frosinone che rientrano nei sistemi di qualità alimentare (Peperone di Pontecorvo DOP\, Cannellino di Atina DOP\, Atina Cabernet DOC\, Mozzarella di bufala campana DOP\, Formaggi biologici\, ecc.) \nE con questa siamo arrivati all’ottava serata musicale del progetto Tipicamente 2021. Si esibiranno i “Pippo Baudo Lost in Time” band composta da sei componenti. \nRappresentano una dimensione dove si combinano perfettamente rap\, canto\, pop\, rock\, funk\, serietà e demenzialità. Atmosfere\, suoni e colori da un futuro passato\, un videogioco anni ’90 con protagonista Pippo Baudo smarrito nel tempo. \nVi aspettiamo a braccia aperte. \nLa serata
URL:https://tipika.it/evento/tipicamente-08/
LOCATION:RiverSTOCK – Parco del Rapido\, Via Palombara\, Cassino\, 03043\, Italia
CATEGORIES:Tipicamente 2021
ATTACH;FMTTYPE=image/jpeg:https://tipika.it/wp-content/uploads/2021/08/tipicamente_08.jpg
ORGANIZER;CN="Tipika":MAILTO:cooptipika@gmail.com
END:VEVENT
END:VCALENDAR